Workbook

Sheet RRW-2 Nakłady
C2: Ministerstwo Rolnictwa i Rozwoju Wsi 00-930 Warszawa, ul. Wspólna 30
C3: Nazwa i adres jednostki sprawozdawczej | E3: RRW - 2 | I3: Adresat:*
E4: Sprawozdanie | I4: Wysłać zgodnie z objaśnieniem
E5: z realizacji inwestycji | I5: Urząd Marszałkowski Województwa Podkarpackiego w Rzeszowie
E6: w zakresie wodociągów
C7: Numer identyfikacyjny - Regon | E7: i sanitacji wsi | I7: Termin przekazania:
E8: w roku 2021 | I8: zgodnie z PBSSP 2021 r.
E9: (stan w dniu 31 grudnia)
B12: Dział 1. Nakłady na środki trwałe (zapłacone) w roku sprawozdawczym - w tys. zł (z jednym znakiem po przecinku)
E13: Ogółem | F13: Ze środków:
B14: Wyszczególnienie | E14: (suma | F14: budżetu | G14: samo- | H14: miesz- | I14: ochrony środowiska* | K14: Unii Euro- | L14: innych*
E15: kol. 2-8) | F15: państwa | G15: rządów | H15: kańców | I15: dotacja | J15: pożyczka | K15: pejskiej
B16: 0 | E16: 1 | F16: 2 | G16: 3 | H16: 4 | I16: 5 | J16: 6 | K16: 7 | L16: 8
B17: Zaopatrzenie wsi w wodę (sieć i przyłącza) | D17: O1 | E17: =SUM(F17:L17) -> 0 | F17: 0 | G17: 0 | H17: 0 | I17: 0 | J17: 0 | K17: 0 | L17: 0 | O17: patrz Objaśnienia pkt: 1, 2, 3, 4, 5, 6, 7, 16
B18: Nowe stacje uzdatniania wody | D18: O2 | E18: =SUM(F18:L18) -> 0 | F18: 0 | G18: 0 | H18: 0 | I18: 0 | J18: 0 | K18: 0 | L18: 0
B19: Modernizacja stacji uzdatniania wody | D19: O3 | E19: =SUM(F19:L19) -> 0 | F19: 0 | G19: 0 | H19: 0 | I19: 0 | J19: 0 | K19: 0 | L19: 0
B20: Kanalizacja wiejska (zbiorcza) | D20: O4 | E20: =SUM(F20:L20) -> 0 | F20: 0 | G20: 0 | H20: 0 | I20: 0 | J20: 0 | K20: 0 | L20: 0
B21: Nowe oczyszczalnie ścieków (zbiorcze) | D21: O5 | E21: =SUM(F21:L21) -> 0 | F21: 0 | G21: 0 | H21: 0 | I21: 0 | J21: 0 | K21: 0 | L21: 0
B22: Modernizacja oczyszczalni ścieków (zbiorcze) | D22: O6 | E22: =SUM(F22:L22) -> 0 | F22: 0 | G22: 0 | H22: 0 | I22: 0 | J22: 0 | K22: 0 | L22: 0
B23: Indywidualne wiejskie oczyszczalnie ścieków | D23: O7 | E23: =SUM(F23:L23) -> 0 | F23: 0 | G23: 0 | H23: 0 | I23: 0 | J23: 0 | K23: 0 | L23: 0
B24: Zorganizowane wysypiska (składowiska)
B25: odpadów komunalnych | D25: O8 | E25: =SUM(F25:L25) -> 0 | F25: 0 | G25: 0 | H25: 0 | I25: 0 | J25: 0 | K25: 0 | L25: 0
B26: Razem | D26: O9 | E26: =SUM(E17:E25) -> 0 | F26: =SUM(F17:F25) -> 0 | G26: =SUM(G17:G25) -> 0 | H26: =SUM(H17:H25) -> 0 | I26: =SUM(I17:I25) -> 0 | J26: =SUM(J17:J25) -> 0 | K26: =SUM(K17:K25) -> 0 | L26: =SUM(L17:L25) -> 0

Sheet RRW-2 Stan
A2: Dział 2. Stan i efekty rzeczowe (z dwoma znakami po przecinku)
D3: Jednostka | E3: Oddanych do | F3: Ogółem
A4: Wyszczególnienie | D4: miary | E4: eksploatacji | F4: stan na
E5: w roku | F5: 31 XII 2021 r.
E6: sprawozdawczym
A7: 0 | D7: 1 | E7: 2 | F7: 3
A8: Stacje uzdatniania wody | C8: O1 | D8: szt. | E8: 0 | F8: 0 | I8: patrz Objaśnienia pkt: 2, 8, 9, 12, 13
A9: Zmodernizowane stacje uzdatniania wody | C9: O2 | D9: szt. | E9: 0 | F9: x | I9: patrz Objaśnienia pkt: 2, 8, 9, 12, 14
A10: Zbiorcza sieć wodociągowa* | C10: O3 | D10: km | E10: 0 | F10: 0 | I10: patrz Objaśnienia pkt: 2, 8, 9, 10, 11, 12, 13
A11: Zbiorcza sieć kanalizacji sanitarnej* | C11: O4 | D11: km | E11: 0 | F11: 0 | I11: patrz Objaśnienia pkt: 2, 8, 9, 10, 11, 13, 15
A12: Oczyszczalnie | B12: ilość obiektów | C12: O5 | D12: szt. | E12: 0 | F12: 0 | I12: patrz Objaśnienia pkt: 2, 8, 9, 13, 19
A13: ścieków (zbior.) | B13: przepustowość* | C13: O6 | D13: m3/dobę | E13: 0 | F13: 0
A14: Zmodernizowane zbiorcze oczyszczalnie ścieków | C14: O7 | D14: szt. | E14: 0 | F14: x | I14: patrz Objaśnienia pkt: 2, 8, 9, 13, 19
A15: Indywidualne wiejskie oczyszczalnie ścieków* | C15: O8 | D15: szt. | E15: 0 | F15: 0 | I15: patrz Objaśnienia pkt: 2, 8, 9, 13, 16, 17, 18, 19
A16: Zorganizowane wysypiska (składo- | C16: O9 | D16: szt. | E16: 0 | F16: 0 | I16: patrz Objaśnienia pkt: 2, 8, 9, 13, 20
A17: wiska) odpadów komunalnych | C17: 10 | D17: ha | E17: 0 | F17: 0
A18: Budynki mieszkalne | C18: 11 | D18: szt. | E18: 0 | F18: 0 | I18: patrz Objaśnienia pkt: 2, 8, 9, 13, 21, 22, 23, 24, 25, 30
A19: Budynki mieszkalne | B19: wodociągowej | C19: 12 | D19: szt. | E19: 0 | F19: 0
A20: podłączone do zbiorczej sieci | B20: kanalizacyjnej | C20: 13 | D20: szt. | E20: 0 | F20: 0
A21: Sołectwa | C21: 14 | D21: szt. | E21: x | F21: 0 | I21: patrz Objaśnienia pkt: 2, 8, 9, 13, 26, 27, 28, 29, 30, 31
A22: w tym: posiadające | B22: wodociągową | C22: 15 | D22: szt. | E22: 0 | F22: 0
A23: zbiorczą sieć | B23: kanalizacyjną | C23: 16 | D23: szt. | E23: 0 | F23: 0
A24: z tego: częściowo po- | B24: wodociągową | C24: 17 | D24: szt. | E24: x | F24: 0
A25: siadające zbiorczą sieć* | B25: kanalizacyjną | C25: 18 | D25: szt. | E25: x | F25: 0
A26: Stawki opłat | B26: min.* | C26: 19 | D26: zł/m3 | E26: 0 | I26: patrz Objaśnienia pkt: 32
A27: za wodę (brutto) | B27: maks.* | C27: 20 | D27: zł/m3 | E27: 0
A28: Stawki opłat | B28: min.* | C28: 21 | D28: zł/m3 | E28: 0
A29: za ścieki (brutto) | B29: maks.* | C29: 22 | D29: zł/m3 | E29: 0
A30: * Patrz objaśnienia
A32: Proszę podać szacunkowy czas (w minutach) przeznaczony na przygotowanie danych dla potrzeb wypełnienia formularza | E32: 1 | F32: 0 | I32: patrz Objaśnienia pkt: 33
A33: Proszę podać szacunkowy czas (w minutach) przeznaczony na wypełnienie formularza | E33: 2 | F33: 0
A35: *Patrz objaśnienia
A40: (imię, nazwisko i numer telefonu osoby, | F40: (pieczątka imienna i podpis osoby
A41: która sporządziła sprawozdanie) | F41: działającej w imieniu sprawozdawcy)**
C43: (miejscowość, data)
A46: ** Wymóg opatrzenia pieczęcią dotyczy wyłacznie sprawozdania wnoszonego w postaci papierowej.

Sheet Objaśnienie
B1: Informacja dotycząca wypełniania formularzy:
A3: 1) | B3: kolorem szarym oznaczono pola, w których nadane są formuły i nie należy ich wypełniać, zmieniać,
A4: 2) | B4: wszystkie pola na formularzach muszą być wypełnione – nie należy zostawiać pustych pól,
A5: 3) | B5: wszystkie nakłady finansowe należy podać w tys. zł, z jednym miejscem po przecinku,
A6: 4) | B6: - w kol. 2 (budżetu państwa) podajemy środki np. z Rządowego Funduszu Inwestycji Lokalnych,
B7: - środki z funduszu ochrony środowiska i gospodarki wodnej powinny być wpisane w kol. 5 (dotacja) lub
B8: kol. 6 (pożyczka), a nie w kol. 8 (innych),
B9: - środki z PROW podajemy w kol. 7 (Unii Europejskiej),
B10: - w kol. 8 wymieniamy jednostki partycypujące w przedsięwzięciu – np. przedsiębiorstwo komunalne, zakład
B11: komunalny, itp.
A12: 5) | B12: do środków samorządowych (kol. 3) należą: środki gminy lub kredyt zaciągnięty przez gminę,
A13: 6) | B13: środki samorządowe nie są środkami z budżetu państwa,
A14: 7) | B14: należy podawać nakłady inwestycyjne poniesione w danym roku,
A15: 8) | B15: efekty rzeczowe należy wykazać po przekazaniu do użytkowania danej sieci/obiektu/modernizacji obiektu,
A16: 9) | B16: należy wykazać sieci, obiekty tylko z terenów wiejskich obsługujących budynki mieszkalne,
B17: mieszkalno-inwentarskie lub mieszkalno-gospodarskie. Jeśli gmina jest miejsko-wiejska wyodrębniamy część wiejską,
A18: 10) | B18: przebudowa, wymiana, modernizacja sieci nie powoduje przyrostu kilometrów wykazanej sieci,
A19: 11) | B19: przyłącze wodociągowe/kanalizacyjne nie jest siecią,
A20: 12) | B20: nie należy ujmować studni,
A21: 13) | B21: przekazanie przez gminę innemu podmiotowi sieci/przyłaczy/obiektów w dzierżawę lub na podstawie umowy/
B22: porozumienia lub innej formy, albo nieprowadzenie ewidencji/rejestru sieci/przyłączy/obiektów nie zwlania gminy
B23: z pozyskania danych, a następnie przekazania danych do właściwego urzędu marszałkowskiego,
A24: 14) | B24: należy uwzględniać przyłącza do budynków mieszkalnych – należy uwzględniać koszty przyłączy
B25: wodociągowych/kanalizacyjnych poniesionych przez mieszkańców,
A26: 15) | B26: kanalizacja deszczowa nie jest zbiorczą siecią kanalizacyjną. Nie należy ujmować kanalizacji deszczowej,
A27: 16) | B27: jeżeli w danym roku przybyło np. indywidualnych wiejskich oczyszczalni ścieków, przyłączy wodociągowych
B28: lub kanalizacyjnych, wykonanych przez samych mieszkańców, ale nieznane są ich koszty, to gmina sama powinna
B29: je wyliczyć na podstawie średniego w danym rejonie kosztu inwestycji i wstawić do kol. 4 (mieszkańców),
A30: 17) | B30: indywidualnymi oczyszczalniami ścieków są urządzenia do oczyszczania ścieków bytowo-gospodarczych
B31: nieodprowadzanych do zbiorczej sieci kanalizacyjnej, budowane dla jednego (kilku) gospodarstwa domowego,
A32: 18) | B32: brak informacji o oddanych przez mieszkańców indywidualych oczyszczalniach ścieków nie zwalnia
B33: gminy z obowiązku prowadzenia ewidencji przydomowych oczyszczalni ścieków (ustawa o utrzymaniu
B34: czystości i porządku w gminach) - wobec czego gmina musi posiadać informację o corocznie
B35: przyłączanych indywidualnych oczyszczalniach ścieków,
A36: 19) | B36: jeśli oczyszczalnia ścieków obsługuje wyłącznie obiekty użyteczności publicznej, wówczas nie należy jej
B37: wykazywać,
A38: 20) | B38: Punkt Selektywnego Zbierania Odpadów Komunalnych nie jest wysypiskiem śmieci,
A39: 21) | B39: należy wykazywać budynki mieszkalne, mieszkalno-inwentarskie lub mieszkalno-gospodarskie bez względu na
B40: formę własności, natomiast nie należy wykazywać budynków użyteczności publicznej,
A41: 22) | B41: jeśli w danym budynku jest kilka mieszkań, ilość przyłączonych budynków wynosi 1, a nie tyle ile liczba mieszkań,
...

Sheet Różnice
A2: Różnice w stanach ilościowych między stanem RRW-2 z 2021 roku,
A3: a sumą przyrostu w 2021 r i stanu z RRW-2 w 2020 roku
A4: (stan na 31.XII.2021 r.)
B6: Nakłady zapłacone w roku sprawozd. | G6: Suma:
G7: Ogółem | I7: Różnica: | J7: Wyjaśnienie
E8: Ogółem | F8: Oddane do | G8: stan wg
C9: Nazwa jednostki partycyp. | D9: Jednostka | E9: stan wg | F9: eksploatacji | G9: RRW-2 | H9: Ogółem | I9: Ogółem | J9: (gmina wypełnia jeśli
A10: Wyszczególnienie | B10: innych | C10: w budowie przedsięwzięcia | D10: miary | E10: RRW-2 | F10: w roku | G10: 2020 + | H10: stan na | I10: stan na | J10: w kol. Róznica, wartość
E11: 2020 | F11: sprawozd. | G11: Oddane do | H11: 31.12.2021 r. | I11: 31.12.2021 r. | J11: jest inna miż 0. Wyjątkiem
C12: (gmina wypełnia jeśli | G12: eksploatacji | I12: - Suma | J12: są sołectwa, ponieważ
C13: w kol. innych, wartość | E13: (objaśnienie | G13: w roku | J13: sołectwa wyjaśniamy tylko
C14: jest inna niż 0,0) | E14: poniżej) | G14: sprawozd. | J14: jeśli wartość jest na "minusie")
A15: Stacje uzdatninia wody | B15: ='RRW-2 Nakłady'!L18 -> 0 | D15: szt. | E15: 0 | F15: ='RRW-2 Stan'!E8 -> 0 | G15: =E15+F15 -> 0 | H15: ='RRW-2 Stan'!F8 -> 0 | I15: =H15-G15 -> 0
A16: Zmodernizowane stacje uzdatniania wody | B16: ='RRW-2 Nakłady'!L19 -> 0 | D16: szt. | E16: X | F16: ='RRW-2 Stan'!E9 -> 0 | G16: X | H16: X | I16: X | J16: X
A17: Zbiorcza sieć wodociągowa | B17: ='RRW-2 Nakłady'!L17 -> 0 | D17: km | E17: 0 | F17: ='RRW-2 Stan'!E10 -> 0 | G17: =E17+F17 -> 0 | H17: ='RRW-2 Stan'!F10 -> 0 | I17: =H17-G17 -> 0
A18: Zbiorcza sieć kanalizacji sanitarnej | B18: ='RRW-2 Nakłady'!L20 -> 0 | D18: km | E18: 0 | F18: ='RRW-2 Stan'!E11 -> 0 | G18: =E18+F18 -> 0 | H18: ='RRW-2 Stan'!F11 -> 0 | I18: =H18-G18 -> 0
A19: Zbiorcze oczyszczalnie ścieków | B19: ='RRW-2 Nakłady'!L21 -> 0 | D19: szt. | E19: 0 | F19: ='RRW-2 Stan'!E12 -> 0 | G19: =E19+F19 -> 0 | H19: ='RRW-2 Stan'!F12 -> 0 | I19: =H19-G19 -> 0
D20: m3/dobę | E20: 0 | F20: ='RRW-2 Stan'!E13 -> 0 | G20: =E20+F20 -> 0 | H20: ='RRW-2 Stan'!F13 -> 0 | I20: =H20-G20 -> 0
A21: Zmodernizowane oczyszczalnie | B21: ='RRW-2 Nakłady'!L22 -> 0 | D21: szt. | E21: X | F21: ='RRW-2 Stan'!E14 -> 0 | G21: X | H21: X | I21: X | J21: X
A22: Indywidualne oczyszczalnie ścieków | B22: ='RRW-2 Nakłady'!L23 -> 0 | D22: szt. | E22: 0 | F22: ='RRW-2 Stan'!E15 -> 0 | G22: =E22+F22 -> 0 | H22: ='RRW-2 Stan'!F15 -> 0 | I22: =H22-G22 -> 0
A23: Zorganizowane wysypiska śmieci | B23: ='RRW-2 Nakłady'!L25 -> 0 | D23: szt. | E23: 0 | F23: ='RRW-2 Stan'!E16 -> 0 | G23: =E23+F23 -> 0 | H23: ='RRW-2 Stan'!F16 -> 0 | I23: =H23-G23 -> 0
D24: ha | E24: 0 | F24: ='RRW-2 Stan'!E17 -> 0 | G24: =E24+F24 -> 0 | H24: ='RRW-2 Stan'!F17 -> 0 | I24: =H24-G24 -> 0
A25: Budynki mieszkalne | B25: X | C25: X | D25: szt. | E25: 0 | F25: ='RRW-2 Stan'!E18 -> 0 | G25: =E25+F25 -> 0 | H25: ='RRW-2 Stan'!F18 -> 0 | I25: =H25-G25 -> 0
A26: Budynki mieszkalne podłączone do zbiorczej sieci wodociągowej | B26: X | C26: X | D26: szt. | E26: 0 | F26: ='RRW-2 Stan'!E19 -> 0 | G26: =E26+F26 -> 0 | H26: ='RRW-2 Stan'!F19 -> 0 | I26: =H26-G26 -> 0
A27: Budynki mieszklane podłączone do zbiorczej sieci kanalizacyjnej | B27: X | C27: X | D27: szt. | E27: 0 | F27: ='RRW-2 Stan'!E20 -> 0 | G27: =E27+F27 -> 0 | H27: ='RRW-2 Stan'!F20 -> 0 | I27: =H27-G27 -> 0
A28: Sołectwa | B28: X | C28: X | D28: szt. | E28: 0 | F28: X | G28: X | H28: ='RRW-2 Stan'!F21 -> 0 | I28: =H28-E28 -> 0
A29: Sołectwa posiadające zbiorczą sieć wodociągową | B29: X | C29: X | D29: szt. | E29: 0 | F29: X | G29: X | H29: ='RRW-2 Stan'!F22 -> 0 | I29: =H29-E29 -> 0
A30: Sołectwa posiadające zbiorczą sieć kanalizacyjną | B30: X | C30: X | D30: szt. | E30: 0 | F30: X | G30: X | H30: ='RRW-2 Stan'!F23 -> 0 | I30: =H30-E30 -> 0
A32: Gmina nie wypełnia szarych pól
A34: Gmina wypełnia:
A35: kolumnę Ogółem stan wg RRW-2 2020 danymi ze sprawozdania z roku ubiegłego, czyli danymi z formularza Dział 2. Stan i efekty rzeczowe z kol. Ogółem stan na 31.12.2020 r.
A36: (Objaśnienia pkt 34)
